BEGIN:VCALENDAR
VERSION:2.0
CALSCALE:GREGORIAN
PRODID:-//Diputació de Barcelona//DibaCMS//EN
BEGIN:VEVENT
UID:DI_3663@www.seva.cat
DTSTAMP:20260424T154405
DTSTART:20260425T120000
DTEND:20260425T140000
SUMMARY:Concert Coral Bella Companyia
LOCATION:
METHOD:PUBLISH
X-WR-CALNAME:seva@seva.cat
X-WR-TIMEZONE:Europe/Madrid
DESCRIPTION:
URI:https://www.seva.cat/actualitat/agenda/concert-coral-bella-companyia.html
CLASS:PUBLIC
END:VEVENT
BEGIN:VEVENT
UID:DI_3677@www.seva.cat
DTSTAMP:20260424T154405
DTSTART:20260429T093000
DTEND:20260429T130000
SUMMARY:Formació per a empreses i persones emprenedores 2026
LOCATION:
METHOD:PUBLISH
X-WR-CALNAME:seva@seva.cat
X-WR-TIMEZONE:Europe/Madrid
DESCRIPTION:
URI:https://www.seva.cat/actualitat/agenda/formacio-per-a-empreses-i-persones-emprenedores-2026.html
CLASS:PUBLIC
END:VEVENT
BEGIN:VEVENT
UID:DI_3664@www.seva.cat
DTSTAMP:20260424T154405
DTSTART:20260501T173000
DTEND:20260501T203000
SUMMARY:Balls de saló
LOCATION:
METHOD:PUBLISH
X-WR-CALNAME:seva@seva.cat
X-WR-TIMEZONE:Europe/Madrid
DESCRIPTION:
URI:https://www.seva.cat/actualitat/agenda/3664-balls-de-salo.html
CLASS:PUBLIC
END:VEVENT
BEGIN:VEVENT
UID:DI_3647@www.seva.cat
DTSTAMP:20260424T154405
DTSTART:20260502T190000
DTEND:20260502T210000
SUMMARY:🎭 PAGLIACCI – Ruggero Leoncavallo
LOCATION:
METHOD:PUBLISH
X-WR-CALNAME:seva@seva.cat
X-WR-TIMEZONE:Europe/Madrid
DESCRIPTION:
URI:https://www.seva.cat/actualitat/agenda/-pagliacci--ruggero-leoncavallo.html
CLASS:PUBLIC
END:VEVENT
BEGIN:VEVENT
UID:DI_3561@www.seva.cat
DTSTAMP:20260424T154405
DTSTART:20260505T153000
DTEND:20260505T183000
SUMMARY:El Bibliobús Tagamanent serà a Seva el 5 de maig
LOCATION:
METHOD:PUBLISH
X-WR-CALNAME:seva@seva.cat
X-WR-TIMEZONE:Europe/Madrid
DESCRIPTION:El Bibliobús Tagamanent serà a Seva el 5 de maig.
	 De 15.30 h a 18.30 h. 
URI:https://www.seva.cat/actualitat/agenda/el-bibliobus-tagamanent-sera-a-seva-el-5-de-maig.html
CLASS:PUBLIC
END:VEVENT
BEGIN:VEVENT
UID:DI_3665@www.seva.cat
DTSTAMP:20260424T154405
DTSTART:20260510T173000
DTEND:20260510T190000
SUMMARY:XIV Festival benèfic contra el càncer
LOCATION:
METHOD:PUBLISH
X-WR-CALNAME:seva@seva.cat
X-WR-TIMEZONE:Europe/Madrid
DESCRIPTION:
URI:https://www.seva.cat/actualitat/agenda/xiv-festival-benefic-contra-el-cancer.html
CLASS:PUBLIC
END:VEVENT
BEGIN:VEVENT
UID:DI_3666@www.seva.cat
DTSTAMP:20260424T154405
DTSTART:20260513T100000
DTEND:20260513T120000
SUMMARY:Càpsula esportiva: vòlei platja
LOCATION:
METHOD:PUBLISH
X-WR-CALNAME:seva@seva.cat
X-WR-TIMEZONE:Europe/Madrid
DESCRIPTION:
URI:https://www.seva.cat/actualitat/agenda/capsula-esportiva-volei-platja.html
CLASS:PUBLIC
END:VEVENT
BEGIN:VEVENT
UID:DI_3562@www.seva.cat
DTSTAMP:20260424T154405
DTSTART:20260519T153000
DTEND:20260519T183000
SUMMARY:El Bibliobús Tagamanent serà a Seva el 19 de maig
LOCATION:
METHOD:PUBLISH
X-WR-CALNAME:seva@seva.cat
X-WR-TIMEZONE:Europe/Madrid
DESCRIPTION:El Bibliobús Tagamanent serà a Seva el 19 de
	 maig. De 15.30 h a 18.30 h. 
URI:https://www.seva.cat/actualitat/agenda/el-bibliobus-tagamanent-sera-a-seva-el-19-de-maig.html
CLASS:PUBLIC
END:VEVENT
BEGIN:VEVENT
UID:DI_3240@www.seva.cat
DTSTAMP:20260424T154405
DTSTART:20260525T060000
DTEND:20260526T230000
SUMMARY:Dilluns 25 de maig del 2026 festiu local a Seva
LOCATION:
METHOD:PUBLISH
X-WR-CALNAME:seva@seva.cat
X-WR-TIMEZONE:Europe/Madrid
DESCRIPTION:Dilluns 25 de maig del 2026 festiu local a Seva
URI:https://www.seva.cat/actualitat/agenda/dilluns-25-de-maig-del-2026-festiu-local-a-seva.html
CLASS:PUBLIC
END:VEVENT
BEGIN:VEVENT
UID:DI_3563@www.seva.cat
DTSTAMP:20260424T154405
DTSTART:20260602T153000
DTEND:20260602T183000
SUMMARY:El Bibliobús Tagamanent serà a Seva el 2 de juny
LOCATION:
METHOD:PUBLISH
X-WR-CALNAME:seva@seva.cat
X-WR-TIMEZONE:Europe/Madrid
DESCRIPTION:El Bibliobús Tagamanent serà a Seva el 2 de juny.
	 De 15.30 h a 18.30 h. 
URI:https://www.seva.cat/actualitat/agenda/el-bibliobus-tagamanent-sera-a-seva-el-2-de-juny.html
CLASS:PUBLIC
END:VEVENT
BEGIN:VEVENT
UID:DI_3564@www.seva.cat
DTSTAMP:20260424T154405
DTSTART:20260616T153000
DTEND:20260616T183000
SUMMARY:El Bibliobús Tagamanent serà a Seva el 16 de juny
LOCATION:
METHOD:PUBLISH
X-WR-CALNAME:seva@seva.cat
X-WR-TIMEZONE:Europe/Madrid
DESCRIPTION:El Bibliobús Tagamanent serà a Seva el 16 de
	 juny. De 15.30 h a 18.30 h. 
URI:https://www.seva.cat/actualitat/agenda/el-bibliobus-tagamanent-sera-a-seva-el-16-de-juny.html
CLASS:PUBLIC
END:VEVENT
BEGIN:VEVENT
UID:DI_3640@www.seva.cat
DTSTAMP:20260424T154405
DTSTART:20260620T170000
DTEND:20260620T180000
SUMMARY:El secret de les joguines
LOCATION:
METHOD:PUBLISH
X-WR-CALNAME:seva@seva.cat
X-WR-TIMEZONE:Europe/Madrid
DESCRIPTION:
URI:https://www.seva.cat/actualitat/agenda/el-secret-de-les-joguines.html
CLASS:PUBLIC
END:VEVENT
BEGIN:VEVENT
UID:DI_3641@www.seva.cat
DTSTAMP:20260424T154405
DTSTART:20260620T180000
DTEND:20260620T190000
SUMMARY:El malalt imaginari
LOCATION:
METHOD:PUBLISH
X-WR-CALNAME:seva@seva.cat
X-WR-TIMEZONE:Europe/Madrid
DESCRIPTION:
URI:https://www.seva.cat/actualitat/agenda/el-malalt-imaginari.html
CLASS:PUBLIC
END:VEVENT
BEGIN:VEVENT
UID:DI_3642@www.seva.cat
DTSTAMP:20260424T154405
DTSTART:20260620T200000
DTEND:20260620T220000
SUMMARY:Cabaret… o no?
LOCATION:
METHOD:PUBLISH
X-WR-CALNAME:seva@seva.cat
X-WR-TIMEZONE:Europe/Madrid
DESCRIPTION:
URI:https://www.seva.cat/actualitat/agenda/cabaret-o-no.html
CLASS:PUBLIC
END:VEVENT
BEGIN:VEVENT
UID:DI_3630@www.seva.cat
DTSTAMP:20260424T154405
DTSTART:20260706T090000
DTEND:20260706T210000
SUMMARY:El Tour de França 2026 passarà per Seva
LOCATION:
METHOD:PUBLISH
X-WR-CALNAME:seva@seva.cat
X-WR-TIMEZONE:Europe/Madrid
DESCRIPTION:
URI:https://www.seva.cat/actualitat/agenda/3630-el-tour-de-franca-2026-passara-per-seva.html
CLASS:PUBLIC
END:VEVENT
BEGIN:VEVENT
UID:DI_3565@www.seva.cat
DTSTAMP:20260424T154405
DTSTART:20260714T153000
DTEND:20260714T183000
SUMMARY:El Bibliobús Tagamanent serà a Seva el 14 de juliol
LOCATION:
METHOD:PUBLISH
X-WR-CALNAME:seva@seva.cat
X-WR-TIMEZONE:Europe/Madrid
DESCRIPTION:El Bibliobús Tagamanent serà a Seva el 14 de juli
	ol. De 15.30 h a 18.30 h. 
URI:https://www.seva.cat/actualitat/agenda/el-bibliobus-tagamanent-sera-a-seva-el-14-de-juliol.html
CLASS:PUBLIC
END:VEVENT
BEGIN:VEVENT
UID:DI_3567@www.seva.cat
DTSTAMP:20260424T154405
DTSTART:20260728T153000
DTEND:20260728T183000
SUMMARY:El Bibliobús Tagamanent serà a Seva el 28 de juliol 
LOCATION:
METHOD:PUBLISH
X-WR-CALNAME:seva@seva.cat
X-WR-TIMEZONE:Europe/Madrid
DESCRIPTION:El Bibliobús Tagamanent serà a Seva el 28 de juli
	ol. De 15.30 h a 18.30 h. 
URI:https://www.seva.cat/actualitat/agenda/el-bibliobus-tagamanent-sera-a-seva-el-28-de-juliol-.html
CLASS:PUBLIC
END:VEVENT
BEGIN:VEVENT
UID:DI_3568@www.seva.cat
DTSTAMP:20260424T154405
DTSTART:20260908T153000
DTEND:20260908T183000
SUMMARY:El Bibliobús Tagamanent serà a Seva el 8 de setembre
LOCATION:
METHOD:PUBLISH
X-WR-CALNAME:seva@seva.cat
X-WR-TIMEZONE:Europe/Madrid
DESCRIPTION:El Bibliobús Tagamanent serà a Seva el 8 de setem
	bre. De 15.30 h a 18.30 h. 
URI:https://www.seva.cat/actualitat/agenda/el-bibliobus-tagamanent-sera-a-seva-el-8-de-setembre.html
CLASS:PUBLIC
END:VEVENT
BEGIN:VEVENT
UID:DI_3569@www.seva.cat
DTSTAMP:20260424T154405
DTSTART:20260922T153000
DTEND:20260922T183000
SUMMARY:El Bibliobús Tagamanent serà a Seva el 22 de setembre
LOCATION:
METHOD:PUBLISH
X-WR-CALNAME:seva@seva.cat
X-WR-TIMEZONE:Europe/Madrid
DESCRIPTION:El Bibliobús Tagamanent serà a Seva el 22 de sete
	mbre. De 15.30 h a 18.30 h. 
URI:https://www.seva.cat/actualitat/agenda/el-bibliobus-tagamanent-sera-a-seva-el-22-de-setembre.html
CLASS:PUBLIC
END:VEVENT
BEGIN:VEVENT
UID:DI_3241@www.seva.cat
DTSTAMP:20260424T154405
DTSTART:20261001T060000
DTEND:20261001T230000
SUMMARY:Dimecres 1 d'octubre del 2026 festiu local a Seva
LOCATION:
METHOD:PUBLISH
X-WR-CALNAME:seva@seva.cat
X-WR-TIMEZONE:Europe/Madrid
DESCRIPTION:Dimecres 1 d'octubre del 2026 festiu local a Seva
URI:https://www.seva.cat/actualitat/agenda/dimecres-1-doctubre-del-2026-festiu-local-a-seva.html
CLASS:PUBLIC
END:VEVENT
BEGIN:VEVENT
UID:DI_3570@www.seva.cat
DTSTAMP:20260424T154405
DTSTART:20261006T153000
DTEND:20261006T183000
SUMMARY:El Bibliobús Tagamanent serà a Seva el 6 d'octubre
LOCATION:
METHOD:PUBLISH
X-WR-CALNAME:seva@seva.cat
X-WR-TIMEZONE:Europe/Madrid
DESCRIPTION:El Bibliobús Tagamanent serà a Seva el 6 d'oc
	tubre. De 15.30 h a 18.30 h. 
URI:https://www.seva.cat/actualitat/agenda/el-bibliobus-tagamanent-sera-a-seva-el-6-doctubre.html
CLASS:PUBLIC
END:VEVENT
BEGIN:VEVENT
UID:DI_3571@www.seva.cat
DTSTAMP:20260424T154405
DTSTART:20261020T153000
DTEND:20261020T183000
SUMMARY:El Bibliobús Tagamanent serà a Seva el 20 d'octubre
LOCATION:
METHOD:PUBLISH
X-WR-CALNAME:seva@seva.cat
X-WR-TIMEZONE:Europe/Madrid
DESCRIPTION:El Bibliobús Tagamanent serà a Seva el 20 d'o
	ctubre. De 15.30 h a 18.30 h. 
URI:https://www.seva.cat/actualitat/agenda/el-bibliobus-tagamanent-sera-a-seva-el-20-doctubre.html
CLASS:PUBLIC
END:VEVENT
BEGIN:VEVENT
UID:DI_3572@www.seva.cat
DTSTAMP:20260424T154405
DTSTART:20261103T153000
DTEND:20261103T183000
SUMMARY:El Bibliobús Tagamanent serà a Seva el 3 de novembre
LOCATION:
METHOD:PUBLISH
X-WR-CALNAME:seva@seva.cat
X-WR-TIMEZONE:Europe/Madrid
DESCRIPTION:El Bibliobús Tagamanent serà a Seva el 3 de novem
	bre. De 15.30 h a 18.30 h. 
URI:https://www.seva.cat/actualitat/agenda/el-bibliobus-tagamanent-sera-a-seva-el-3-de-novembre.html
CLASS:PUBLIC
END:VEVENT
BEGIN:VEVENT
UID:DI_3573@www.seva.cat
DTSTAMP:20260424T154405
DTSTART:20261117T153000
DTEND:20261117T183000
SUMMARY:El Bibliobús Tagamanent serà a Seva el 17 de novembre
LOCATION:
METHOD:PUBLISH
X-WR-CALNAME:seva@seva.cat
X-WR-TIMEZONE:Europe/Madrid
DESCRIPTION:El Bibliobús Tagamanent serà a Seva el 17 de nove
	mbre. De 15.30 h a 18.30 h. 
URI:https://www.seva.cat/actualitat/agenda/el-bibliobus-tagamanent-sera-a-seva-el-17-de-novembre.html
CLASS:PUBLIC
END:VEVENT
BEGIN:VEVENT
UID:DI_3574@www.seva.cat
DTSTAMP:20260424T154405
DTSTART:20261201T153000
DTEND:20261201T183000
SUMMARY:El Bibliobús Tagamanent serà a Seva el 1 de desembre
LOCATION:
METHOD:PUBLISH
X-WR-CALNAME:seva@seva.cat
X-WR-TIMEZONE:Europe/Madrid
DESCRIPTION:El Bibliobús Tagamanent serà a Seva el 1 de desem
	bre. De 15.30 h a 18.30 h. 
URI:https://www.seva.cat/actualitat/agenda/el-bibliobus-tagamanent-sera-a-seva-el-1-de-desembre.html
CLASS:PUBLIC
END:VEVENT
END:VCALENDAR
