BEGIN:VCALENDAR
VERSION:2.0
CALSCALE:GREGORIAN
PRODID:-//Diputació de Barcelona//DibaCMS//EN
BEGIN:VEVENT
UID:1312
DTSTAMP:20260420T101530
DTSTART:20201211T120000
DTEND:20201211T150000
SUMMARY:prova
LOCATION:
METHOD:PUBLISH
X-WR-CALNAME:seva@seva.cat
X-WR-TIMEZONE:Europe/Madrid
DESCRIPTION:
URI:https://www.seva.cat//continguts//prova.html
CLASS:PUBLIC
END:VEVENT
END:VCALENDAR
