BEGIN:VCALENDAR
VERSION:2.0
CALSCALE:GREGORIAN
PRODID:-//Diputació de Barcelona//DibaCMS//EN
BEGIN:VEVENT
UID:1836
DTSTAMP:20260420T223907
DTSTART:20210812T213000
DTEND:20210812T235900
SUMMARY:Quina popular
LOCATION:08553 Seva
METHOD:PUBLISH
X-WR-CALNAME:seva@seva.cat
X-WR-TIMEZONE:Europe/Madrid
DESCRIPTION:Tradicional Quina popular. Entrades a: https://entrades.el9nou.cat/esdeveniment/quina-popular/1829

URI:https://www.seva.cat/actualitat/agenda/quina-popular.html
CLASS:PUBLIC
END:VEVENT
END:VCALENDAR
