BEGIN:VCALENDAR
VERSION:2.0
CALSCALE:GREGORIAN
PRODID:-//Diputació de Barcelona//DibaCMS//EN
BEGIN:VEVENT
UID:3269
DTSTAMP:20260419T145346
DTSTART:20250802T180000
DTEND:20250803T080000
SUMMARY:Festa Major d'El Pinós, 2 d'agost
LOCATION:
METHOD:PUBLISH
X-WR-CALNAME:seva@seva.cat
X-WR-TIMEZONE:Europe/Madrid
DESCRIPTION:Tots els actes es portaran a terme al local social d'El Pinós. C. Montserrat Caballé, 11.

URI:https://www.seva.cat/actualitat/agenda/festa-major-del-pinos-2-dagost.html
CLASS:PUBLIC
END:VEVENT
END:VCALENDAR
